BEGIN:VCALENDAR
VERSION:2.0
PRODID:-//Instituto Aware - ECPv5.14.0.1//NONSGML v1.0//EN
CALSCALE:GREGORIAN
METHOD:PUBLISH
X-WR-CALNAME:Instituto Aware
X-ORIGINAL-URL:https://institutoaware.com
X-WR-CALDESC:Eventos para Instituto Aware
BEGIN:VTIMEZONE
TZID:UTC
BEGIN:STANDARD
TZOFFSETFROM:+0000
TZOFFSETTO:+0000
TZNAME:UTC
DTSTART:20170101T000000
END:STANDARD
END:VTIMEZONE
BEGIN:VEVENT
DTSTART;TZID=UTC:20170904T160000
DTEND;TZID=UTC:20170904T220000
DTSTAMP:20260420T172710
CREATED:20161025T083911Z
LAST-MODIFIED:20170801T082842Z
UID:2303-1504540800-1504562400@institutoaware.com
SUMMARY:Taller Abierto de Constelaciones Familiares
DESCRIPTION:¿Quieres tener un acercamiento al trabajo de Constelaciones Familiares? ¿Tienes algún asunto que te gustaría constelar?\nLas Constelaciones Familiares son un abordaje que trabaja con la mirada puesta en clarificar si los bloqueos o confrontaciones que generan infelicidad en el individuo dependen de él o de su sistema familiar. Es una herramienta eficaz y muy interesante para poder ver qué dinámicas e implicaciones familiares nos afectan. Las dinámicas son inconscientes e invisibles. Como el hijo que repite un patrón por amor\, o queda identificado con algún hecho doloroso del pasado. \nLos talleres de Constelaciones Familiares son una experiencia para ponernos al servicio de la vida y “honrar” el pasado. Una vivencia sanadora\, sutil y preciosa para liberarnos de aquello que no nos corresponde y ser capaces de tomar lo que la vida nos da. \n¿Qué se puede Constelar? Las Constelaciones facilitan\, de manera ágil y eficaz\, generar cambios y orientar hacia soluciones operativas en temáticas específicas relacionadas con la pareja\, los hijos\, la salud\, las organizaciones\, el dinero\, el trabajo\, la comunicación y las relaciones en general. \nEste Taller está dirigido a particulares que quieran resolver asuntos para su propio crecimiento personal y profesional. También a personas que trabajan en ámbitos de ayuda como profesionales de la sanidad\, la psicología\, la terapia\, el trabajo social\, etc. \nFacilitador: Verónica Menduiña\, psicoterapeuta\, formadora y miembro del equipo de Constelaciones Familiares en el Institut Gestalt de Barcelona. \nInformación e inscripciones: 637 64 94 94 /info@institutoaware.com
URL:https://institutoaware.com/evento/taller-abierto-constelaciones-familiares/
LOCATION:Instituto Aware\, Calle Luis Milán\, 3\, bajo.\, València\, 46021\, España
CATEGORIES:Constelaciones Familiares
ATTACH;FMTTYPE=image/jpeg:https://institutoaware.com/wp-content/uploads/2016/10/Taller-Abierto-de-Constelaciones-Familiares.jpeg
END:VEVENT
END:VCALENDAR