BEGIN:VCALENDAR
VERSION:2.0
PRODID:-//Instituto Aware - ECPv5.14.0.1//NONSGML v1.0//EN
CALSCALE:GREGORIAN
METHOD:PUBLISH
X-WR-CALNAME:Instituto Aware
X-ORIGINAL-URL:https://institutoaware.com
X-WR-CALDESC:Eventos para Instituto Aware
BEGIN:VTIMEZONE
TZID:UTC
BEGIN:STANDARD
TZOFFSETFROM:+0000
TZOFFSETTO:+0000
TZNAME:UTC
DTSTART:20240101T000000
END:STANDARD
END:VTIMEZONE
BEGIN:VEVENT
DTSTART;TZID=UTC:20240126T170000
DTEND;TZID=UTC:20240324T140000
DTSTAMP:20260421T134416
CREATED:20190301T115619Z
LAST-MODIFIED:20231208T095519Z
UID:3727-1706288400-1711288800@institutoaware.com
SUMMARY:Formación en Sexualidad Femenina: "Nacidas para el Placer"
DESCRIPTION:¡¡NOVEDAD!!\nTe traemos a Valencia en colaboración con el Instutut Gestalt\, la Formación en Sexualidad Femenina: Nacidas para el Placer dirigida por Mireia Darder; un viaje de autodescubrimiento en el que primero deconstruiremos la sexualidad impuesta por el patriarcado\, para después\, encontrar una sexualidad alternativa conectada con la propia esencia. \nAdemás obtendrás herramientas para acompañar a otras mujeres en este camino\, si así lo deseas. \nA través de un trabajo grupal e individual\, recorrerás todos los niveles implicados en torno a la sexualidad: Fisiológico\, mental\, emocional\, energético y espiritual. \nLa Formación consta de tres perspectivas: \n1.     Yo en relación conmigo misma. El enfoque se centrará en la sexualidad personal. \n2.     Yo en relación con el otro. Se proporcionarán herramientas para una mejor relación con el otro. \n3.     Yo en relación con el todo. Será una enseñanza de unión con la Vida y el Universo. \n  \nObjetivos: \n\nTomar conciencia de las limitaciones e imposiciones de la sexualidad patriarcal.\nDeconstruir los modelos\, las creencias\, y las herencias familiares y sociales que nos condicionan a nivel individual.\nDesbloquear la energía sexual\nDescubrir nuestra sexualidad propia y personal\nRecorrer todos los ciclos vitales de la mujer a lo largo de nuestra vida\nConectar con nuestra esencia\, deseo e intuición\nAbrir y relajar la mente y el cuerpo al placer\nAprender una actitud de estar presente y consciente\nAdquirir seguridad con la conexión de la energía sexual\nAceptar el propio cuerpo y sentirlo como fuente del placer\nConocer la anatomía y fisiología implicadas\nExperimentar la visión tántrica de culto a la energía femenina\n\n  \nDirigida exclusivamente a mujeres \n  \nFechas: \n\nMódulo 1: 26\, 27 y 28 de enero de 2024\nMódulo 2: 9\, 10 y 11 de febrero de 2024\nMódulo 3: 1\, 2 y 3 de marzo de 2024\nMódulo 4: 22\, 23 y 24 de marzo de 2024 (en formato stage residencial)\n\n  \nHorarios: viernes de 17 a 21h\, sábados de 10 a 20h y domingos de 10 a 14h \n*El último encuentro de la Formación se realizará en formato residencial \nPrecio: 910€ (pago único)\nPago único: 910€.\n• Matricula de 273€ en concepto de reserva de plaza\n• Resto 637€\, a pagar antes del inicio de la formación. \nPago fraccionado: 985€.\n• Matricula de 273€ en concepto de reserva de plaza\n• 2 cuotas de 238€ + 1 cuota de 236€. \n*El stage residencial se reserva y paga aparte. \n  \nFormadoras: Mireia Darder\, Luana Salvadó y Eugénia Gallifa \n  \nPLAZAS LIMITADAS! \nMás información e inscripciones en: 637 64 94 94 / info@institutoaware.com
URL:https://institutoaware.com/evento/formacion-en-sexualidad-femenina-nacidas-para-el-placer/
LOCATION:Instituto Aware\, Calle Luis Milán\, 3\, bajo.\, València\, 46021\, España
CATEGORIES:Cursos,Formaciones,Gestalt,Mujer
ATTACH;FMTTYPE=image/jpeg:https://institutoaware.com/wp-content/uploads/2019/03/formacion-sexualidad-aware.jpg
ORGANIZER;CN="Espacio%20Thera":MAILTO:info@institutoaware.com
END:VEVENT
END:VCALENDAR