BEGIN:VCALENDAR
VERSION:2.0
PRODID:-//Instituto Aware - ECPv5.14.0.1//NONSGML v1.0//EN
CALSCALE:GREGORIAN
METHOD:PUBLISH
X-WR-CALNAME:Instituto Aware
X-ORIGINAL-URL:https://institutoaware.com
X-WR-CALDESC:Eventos para Instituto Aware
BEGIN:VTIMEZONE
TZID:UTC
BEGIN:STANDARD
TZOFFSETFROM:+0000
TZOFFSETTO:+0000
TZNAME:UTC
DTSTART:20240101T000000
END:STANDARD
END:VTIMEZONE
BEGIN:VEVENT
DTSTART;TZID=UTC:20240126T160000
DTEND;TZID=UTC:20240131T220000
DTSTAMP:20260421T105626
CREATED:20190124T155938Z
LAST-MODIFIED:20240326T113525Z
UID:3600-1706284800-1706738400@institutoaware.com
SUMMARY:Formación Máster en Constelaciones Familiares
DESCRIPTION:NOVEDAD! PRÓXIMA 6ª EDICIÓN FORMATO FIN DE SEMANA\nLa formación Máster en Constelaciones Familiares y Sistémicas está dividida en tres niveles anuales. El primero se centra en comprender la metodología desde el trabajo personal y vivencial; el segundo se ocupa principalmente del entrenamiento y del aprendizaje ahondando en el estudio teórico-práctico; y el último curso está dedicado a la supervisión y afinamiento del estilo personal en el uso del método de Constelaciones Familiares. \nDescarga el documento informativo aquí \nA quién va dirigida\nLa Formación de Constelaciones Familiares interesa a todas aquellas personas con afán de aumentar la comprensión de sí mismas\, de sus seres queridos y de sus vínculos\, para entender la naturaleza sistémica de las relaciones y descubrir la fuerza creadora de nuestra red familiar. \nSe dirige asimismo a todos los profesionales de la ayuda y/o que se relacionen con asuntos familiares: psicólogos\, terapeutas\, médicos\, trabajadores sociales\, maestros\, educadores\, consejeros\, mediadores\, jueces\, consultores\, comunicadores\, coaches\, responsables de recursos humanos\, etc.; para que puedan integrar el enfoque sistémico y las enseñanzas que les sean útiles en su ámbito\, tanto en la aplicación grupal como individual. \nTambién puede interesar a quienes deseen desarrollar una profesión de futuro. \n \nDIRIGE: Joan Garriga \nIMPARTE: Joan Garriga y Equipo docente del IG  \nINICIO: 26 ENERO 2024 \n¡APROVECHA DESCUENTO EN MATRÍCULA HASTA EL 25 DE DICIEMBRE! \nINSCRIPCIÓN: Envía un e-mail a info@institutoaware.com o llama a Encar Gómez al 637 64 94 94 para solicitar tu plaza. \nMás información y Preguntas Frecuentes
URL:https://institutoaware.com/evento/formacion-en-constelaciones-familiares-y-sistemicas/
CATEGORIES:Constelaciones Familiares,Formaciones
ATTACH;FMTTYPE=image/jpeg:https://institutoaware.com/wp-content/uploads/2019/01/manos-y-familia.jpg
ORGANIZER;CN="Instituto%20Aware":MAILTO:info@institutoaware.com
END:VEVENT
END:VCALENDAR